BEGIN:VCALENDAR
VERSION:2.0
PRODID:-//tennisforlife - ECPv6.15.20//NONSGML v1.0//EN
CALSCALE:GREGORIAN
METHOD:PUBLISH
X-WR-CALNAME:tennisforlife
X-ORIGINAL-URL:https://tennisforlifenc.org
X-WR-CALDESC:Events for tennisforlife
REFRESH-INTERVAL;VALUE=DURATION:PT1H
X-Robots-Tag:noindex
X-PUBLISHED-TTL:PT1H
BEGIN:VTIMEZONE
TZID:America/New_York
BEGIN:DAYLIGHT
TZOFFSETFROM:-0500
TZOFFSETTO:-0400
TZNAME:EDT
DTSTART:20230312T070000
END:DAYLIGHT
BEGIN:STANDARD
TZOFFSETFROM:-0400
TZOFFSETTO:-0500
TZNAME:EST
DTSTART:20231105T060000
END:STANDARD
BEGIN:DAYLIGHT
TZOFFSETFROM:-0500
TZOFFSETTO:-0400
TZNAME:EDT
DTSTART:20240310T070000
END:DAYLIGHT
BEGIN:STANDARD
TZOFFSETFROM:-0400
TZOFFSETTO:-0500
TZNAME:EST
DTSTART:20241103T060000
END:STANDARD
BEGIN:DAYLIGHT
TZOFFSETFROM:-0500
TZOFFSETTO:-0400
TZNAME:EDT
DTSTART:20250309T070000
END:DAYLIGHT
BEGIN:STANDARD
TZOFFSETFROM:-0400
TZOFFSETTO:-0500
TZNAME:EST
DTSTART:20251102T060000
END:STANDARD
END:VTIMEZONE
BEGIN:VEVENT
DTSTART;TZID=America/New_York:20240801T193000
DTEND;TZID=America/New_York:20240801T203000
DTSTAMP:20260422T075323
CREATED:20240515T212510Z
LAST-MODIFIED:20240515T212510Z
UID:2543-1722540600-1722544200@tennisforlifenc.org
SUMMARY:Cary Tennis Clinic
DESCRIPTION:7:30pm – 8:30pm tennis clinic
URL:https://tennisforlifenc.org/event/cary-tennis-clinic-43/
LOCATION:Kildaire Farms Racquet Club\, 162 Pebble Creek Dr\, Cary\, NC\, 27511\, United States
CATEGORIES:Tennis
END:VEVENT
BEGIN:VEVENT
DTSTART;TZID=America/New_York:20240808T193000
DTEND;TZID=America/New_York:20240808T203000
DTSTAMP:20260422T075323
CREATED:20240515T212602Z
LAST-MODIFIED:20240515T212602Z
UID:2546-1723145400-1723149000@tennisforlifenc.org
SUMMARY:Cary Tennis Clinic
DESCRIPTION:7:30pm – 8:30pm tennis clinic
URL:https://tennisforlifenc.org/event/cary-tennis-clinic-44/
LOCATION:Kildaire Farms Racquet Club\, 162 Pebble Creek Dr\, Cary\, NC\, 27511\, United States
CATEGORIES:Tennis
END:VEVENT
BEGIN:VEVENT
DTSTART;TZID=America/New_York:20240815T193000
DTEND;TZID=America/New_York:20240815T203000
DTSTAMP:20260422T075323
CREATED:20240515T212658Z
LAST-MODIFIED:20240515T212658Z
UID:2548-1723750200-1723753800@tennisforlifenc.org
SUMMARY:Cary Tennis Clinic
DESCRIPTION:7:30pm – 8:30pm tennis clinic
URL:https://tennisforlifenc.org/event/cary-tennis-clinic-45/
LOCATION:Kildaire Farms Racquet Club\, 162 Pebble Creek Dr\, Cary\, NC\, 27511\, United States
CATEGORIES:Tennis
END:VEVENT
BEGIN:VEVENT
DTSTART;TZID=America/New_York:20240822T193000
DTEND;TZID=America/New_York:20240822T203000
DTSTAMP:20260422T075323
CREATED:20240515T212742Z
LAST-MODIFIED:20240515T212742Z
UID:2550-1724355000-1724358600@tennisforlifenc.org
SUMMARY:Cary Tennis Park
DESCRIPTION:7:30pm – 8:30pm tennis clinic
URL:https://tennisforlifenc.org/event/cary-tennis-park/
LOCATION:Kildaire Farms Racquet Club\, 162 Pebble Creek Dr\, Cary\, NC\, 27511\, United States
CATEGORIES:Tennis
END:VEVENT
BEGIN:VEVENT
DTSTART;TZID=America/New_York:20240829T193000
DTEND;TZID=America/New_York:20240829T203000
DTSTAMP:20260422T075323
CREATED:20240515T212829Z
LAST-MODIFIED:20240515T212829Z
UID:2552-1724959800-1724963400@tennisforlifenc.org
SUMMARY:Cary Tennis Clinic
DESCRIPTION:7:30pm – 8:30pm tennis clinic
URL:https://tennisforlifenc.org/event/cary-tennis-clinic-46/
LOCATION:Kildaire Farms Racquet Club\, 162 Pebble Creek Dr\, Cary\, NC\, 27511\, United States
CATEGORIES:Tennis
END:VEVENT
END:VCALENDAR