BEGIN:VCALENDAR
VERSION:2.0
PRODID:-//tennisforlife - ECPv6.15.20//NONSGML v1.0//EN
CALSCALE:GREGORIAN
METHOD:PUBLISH
X-WR-CALNAME:tennisforlife
X-ORIGINAL-URL:https://tennisforlifenc.org
X-WR-CALDESC:Events for tennisforlife
REFRESH-INTERVAL;VALUE=DURATION:PT1H
X-Robots-Tag:noindex
X-PUBLISHED-TTL:PT1H
BEGIN:VTIMEZONE
TZID:America/New_York
BEGIN:DAYLIGHT
TZOFFSETFROM:-0500
TZOFFSETTO:-0400
TZNAME:EDT
DTSTART:20230312T070000
END:DAYLIGHT
BEGIN:STANDARD
TZOFFSETFROM:-0400
TZOFFSETTO:-0500
TZNAME:EST
DTSTART:20231105T060000
END:STANDARD
BEGIN:DAYLIGHT
TZOFFSETFROM:-0500
TZOFFSETTO:-0400
TZNAME:EDT
DTSTART:20240310T070000
END:DAYLIGHT
BEGIN:STANDARD
TZOFFSETFROM:-0400
TZOFFSETTO:-0500
TZNAME:EST
DTSTART:20241103T060000
END:STANDARD
BEGIN:DAYLIGHT
TZOFFSETFROM:-0500
TZOFFSETTO:-0400
TZNAME:EDT
DTSTART:20250309T070000
END:DAYLIGHT
BEGIN:STANDARD
TZOFFSETFROM:-0400
TZOFFSETTO:-0500
TZNAME:EST
DTSTART:20251102T060000
END:STANDARD
END:VTIMEZONE
BEGIN:VEVENT
DTSTART;TZID=America/New_York:20240606T193000
DTEND;TZID=America/New_York:20240606T203000
DTSTAMP:20260422T110309
CREATED:20240515T211256Z
LAST-MODIFIED:20240515T211256Z
UID:2528-1717702200-1717705800@tennisforlifenc.org
SUMMARY:Cary Tennis Clinic
DESCRIPTION:7:30pm – 8:30pm tennis clinic
URL:https://tennisforlifenc.org/event/cary-tennis-clinic-36/
LOCATION:Kildaire Farms Racquet Club\, 162 Pebble Creek Dr\, Cary\, NC\, 27511\, United States
CATEGORIES:Tennis
END:VEVENT
BEGIN:VEVENT
DTSTART;TZID=America/New_York:20240613T193000
DTEND;TZID=America/New_York:20240613T203000
DTSTAMP:20260422T110309
CREATED:20240515T211348Z
LAST-MODIFIED:20240515T211348Z
UID:2530-1718307000-1718310600@tennisforlifenc.org
SUMMARY:Cary Tennis Clinic
DESCRIPTION:7:30pm – 8:30pm tennis clinic
URL:https://tennisforlifenc.org/event/cary-tennis-clinic-37/
LOCATION:Kildaire Farms Racquet Club\, 162 Pebble Creek Dr\, Cary\, NC\, 27511\, United States
CATEGORIES:Tennis
END:VEVENT
BEGIN:VEVENT
DTSTART;TZID=America/New_York:20240620T193000
DTEND;TZID=America/New_York:20240620T203000
DTSTAMP:20260422T110309
CREATED:20240515T212052Z
LAST-MODIFIED:20240515T212052Z
UID:2533-1718911800-1718915400@tennisforlifenc.org
SUMMARY:Cary Tennis Clinic
DESCRIPTION:7:30pm – 8:30pm tennis clinic
URL:https://tennisforlifenc.org/event/cary-tennis-clinic-38/
LOCATION:Kildaire Farms Racquet Club\, 162 Pebble Creek Dr\, Cary\, NC\, 27511\, United States
CATEGORIES:Tennis
END:VEVENT
BEGIN:VEVENT
DTSTART;TZID=America/New_York:20240627T193000
DTEND;TZID=America/New_York:20240627T203000
DTSTAMP:20260422T110309
CREATED:20240515T212135Z
LAST-MODIFIED:20240515T212135Z
UID:2535-1719516600-1719520200@tennisforlifenc.org
SUMMARY:Cary Tennis Clinic
DESCRIPTION:7:30pm – 8:30pm tennis clinic
URL:https://tennisforlifenc.org/event/cary-tennis-clinic-39/
LOCATION:Kildaire Farms Racquet Club\, 162 Pebble Creek Dr\, Cary\, NC\, 27511\, United States
CATEGORIES:Tennis
END:VEVENT
END:VCALENDAR