BEGIN:VCALENDAR
VERSION:2.0
PRODID:-//tennisforlife - ECPv6.15.20//NONSGML v1.0//EN
CALSCALE:GREGORIAN
METHOD:PUBLISH
X-WR-CALNAME:tennisforlife
X-ORIGINAL-URL:https://tennisforlifenc.org
X-WR-CALDESC:Events for tennisforlife
REFRESH-INTERVAL;VALUE=DURATION:PT1H
X-Robots-Tag:noindex
X-PUBLISHED-TTL:PT1H
BEGIN:VTIMEZONE
TZID:America/New_York
BEGIN:DAYLIGHT
TZOFFSETFROM:-0500
TZOFFSETTO:-0400
TZNAME:EDT
DTSTART:20240310T070000
END:DAYLIGHT
BEGIN:STANDARD
TZOFFSETFROM:-0400
TZOFFSETTO:-0500
TZNAME:EST
DTSTART:20241103T060000
END:STANDARD
BEGIN:DAYLIGHT
TZOFFSETFROM:-0500
TZOFFSETTO:-0400
TZNAME:EDT
DTSTART:20250309T070000
END:DAYLIGHT
BEGIN:STANDARD
TZOFFSETFROM:-0400
TZOFFSETTO:-0500
TZNAME:EST
DTSTART:20251102T060000
END:STANDARD
BEGIN:DAYLIGHT
TZOFFSETFROM:-0500
TZOFFSETTO:-0400
TZNAME:EDT
DTSTART:20260308T070000
END:DAYLIGHT
BEGIN:STANDARD
TZOFFSETFROM:-0400
TZOFFSETTO:-0500
TZNAME:EST
DTSTART:20261101T060000
END:STANDARD
END:VTIMEZONE
BEGIN:VEVENT
DTSTART;TZID=America/New_York:20250322T130000
DTEND;TZID=America/New_York:20250322T143000
DTSTAMP:20260419T232648
CREATED:20250221T005547Z
LAST-MODIFIED:20250221T005547Z
UID:2605-1742648400-1742653800@tennisforlifenc.org
SUMMARY:Assemble Essential Bags
DESCRIPTION:In honor and memory of Alexis Johnson\, Tennis for Life is donating funds to Survivor Friendly to make Essential Bags which they provide free to breast cancer survivors.  The Essential Bags “include beauty essentials and other supplies to supplement the healing process and normalcy of life”.  We will also include in the bag a hand written card from a Tennis for Life member and other TFL items. \n\nTFL members have already written 300 note cards. .We will be assembling the Essential Bags on Saturday\, March 22\, 2025 at 1:00pm at Survivor Friendly in Cary.  Survivor Friendly’s address is 527 Keisler Dr Suite 104\, Cary\, NC 27518.\n\nPer email from Victoria\, please RSVP if you would like to help assemble the Essential Bags.
URL:https://tennisforlifenc.org/event/assemble-essential-bags-2/
LOCATION:Survivor Friendly\, 527 Keisler Drive Suite 104\, Cary\, NC\, 27518\, United States
CATEGORIES:Special Event
END:VEVENT
BEGIN:VEVENT
DTSTART;TZID=America/New_York:20250330T120000
DTEND;TZID=America/New_York:20250330T170000
DTSTAMP:20260419T232648
CREATED:20250221T012145Z
LAST-MODIFIED:20250221T012145Z
UID:2609-1743336000-1743354000@tennisforlifenc.org
SUMMARY:NCSU Women's Tennis Match and Clinic
DESCRIPTION:Come cheer for the NCSU Women’s Tennis Team as they play against Georgia Tech.  After their match and a short break\, the NCSU Women’s Tennis Team will play tennis with TFL members!  It’s a lot of fun partnering with an NCSU player. \nSee email from Victoria about how to RSVP.
URL:https://tennisforlifenc.org/event/ncsu-womens-tennis-match-and-clinic-2/
LOCATION:J.W. Isenhour Tennis Center\, NC State Campus\, J. W. Isenhour Tennis Center\, Raleigh\, NC\, 27607\, United States
CATEGORIES:Special Event
END:VEVENT
END:VCALENDAR