BEGIN:VCALENDAR
VERSION:2.0
PRODID:-//tennisforlife - ECPv6.15.20//NONSGML v1.0//EN
CALSCALE:GREGORIAN
METHOD:PUBLISH
X-WR-CALNAME:tennisforlife
X-ORIGINAL-URL:https://tennisforlifenc.org
X-WR-CALDESC:Events for tennisforlife
REFRESH-INTERVAL;VALUE=DURATION:PT1H
X-Robots-Tag:noindex
X-PUBLISHED-TTL:PT1H
BEGIN:VTIMEZONE
TZID:UTC
BEGIN:STANDARD
TZOFFSETFROM:+0000
TZOFFSETTO:+0000
TZNAME:UTC
DTSTART:20170101T000000
END:STANDARD
END:VTIMEZONE
BEGIN:VEVENT
DTSTART;TZID=UTC:20180816T173000
DTEND;TZID=UTC:20180816T210000
DTSTAMP:20260421T133901
CREATED:20180722T231822Z
LAST-MODIFIED:20180723T031305Z
UID:1085-1534440600-1534453200@tennisforlifenc.org
SUMMARY:Thursday\, August 16 Making Strides Kick-Off Dinner
DESCRIPTION:See how Tennis for Life is participating in the Making Strides of Raleigh activities. \nWhen you RSVP for the Kick-Off dinner\, please also cc:  alexis.tennisforlfenc@gmail.com on your RSVP.
URL:https://tennisforlifenc.org/event/august-16-making-strides-kickoff-dinner/
LOCATION:Renaissance North Hills Hotel\, 4100 Main at North Hills St.\, Raleigh\, NC\, 27609\, United States
END:VEVENT
END:VCALENDAR